BEGIN:VCALENDAR
VERSION:2.0
PRODID:-//Scouts BSA Pack 370 - Vancouver WA - ECPv6.15.20//NONSGML v1.0//EN
CALSCALE:GREGORIAN
METHOD:PUBLISH
X-ORIGINAL-URL:https://bsapack370van.org
X-WR-CALDESC:Events for Scouts BSA Pack 370 - Vancouver WA
REFRESH-INTERVAL;VALUE=DURATION:PT1H
X-Robots-Tag:noindex
X-PUBLISHED-TTL:PT1H
BEGIN:VTIMEZONE
TZID:America/Los_Angeles
BEGIN:DAYLIGHT
TZOFFSETFROM:-0800
TZOFFSETTO:-0700
TZNAME:PDT
DTSTART:20240310T100000
END:DAYLIGHT
BEGIN:STANDARD
TZOFFSETFROM:-0700
TZOFFSETTO:-0800
TZNAME:PST
DTSTART:20241103T090000
END:STANDARD
BEGIN:DAYLIGHT
TZOFFSETFROM:-0800
TZOFFSETTO:-0700
TZNAME:PDT
DTSTART:20250309T100000
END:DAYLIGHT
BEGIN:STANDARD
TZOFFSETFROM:-0700
TZOFFSETTO:-0800
TZNAME:PST
DTSTART:20251102T090000
END:STANDARD
BEGIN:DAYLIGHT
TZOFFSETFROM:-0800
TZOFFSETTO:-0700
TZNAME:PDT
DTSTART:20260308T100000
END:DAYLIGHT
BEGIN:STANDARD
TZOFFSETFROM:-0700
TZOFFSETTO:-0800
TZNAME:PST
DTSTART:20261101T090000
END:STANDARD
BEGIN:DAYLIGHT
TZOFFSETFROM:-0800
TZOFFSETTO:-0700
TZNAME:PDT
DTSTART:20270314T100000
END:DAYLIGHT
BEGIN:STANDARD
TZOFFSETFROM:-0700
TZOFFSETTO:-0800
TZNAME:PST
DTSTART:20271107T090000
END:STANDARD
END:VTIMEZONE
BEGIN:VEVENT
DTSTART;TZID=America/Los_Angeles:20260113T180000
DTEND;TZID=America/Los_Angeles:20260113T190000
DTSTAMP:20260423T160255
CREATED:20260101T211521Z
LAST-MODIFIED:20260101T211521Z
UID:198-1768327200-1768330800@bsapack370van.org
SUMMARY:January Committee Meeting
DESCRIPTION:There will be a committee meeting to plan the following: \n\nBlue & Gold (February 14\, 2026)\nRemaining pack meeting activities for the rest of the school year\nSummer camp planning\nFinance review and planning\nCharter renewal\nRoster updates\n\nAll parents are welcome and encouraged to attend.
URL:https://bsapack370van.org/event/january-committee-meeting/
LOCATION:Round Table Pizza\, Vancouver Mall\, 5016 NE Thurston Way\, Vancouver\, WA\, 98661\, United States
CATEGORIES:Committee Meeting
ORGANIZER;CN="Steve Abbott":MAILTO:Steve.Abbott.BSA@gmail.com
END:VEVENT
BEGIN:VEVENT
DTSTART;TZID=America/Los_Angeles:20251008T180000
DTEND;TZID=America/Los_Angeles:20251008T190000
DTSTAMP:20260423T160255
CREATED:20251008T182735Z
LAST-MODIFIED:20251008T182735Z
UID:152-1759946400-1759950000@bsapack370van.org
SUMMARY:Committee Meeting
DESCRIPTION:There will be a Committee Meeting on Wednesday\, October 8\, 2025\, from 6:00 PM to 7:00 PM at Roundtable Pizza\, located on Vancouver Mall Drive\, across from Vancouver Mall. \nWe will continue planning for the year\, reviewing recent changes to fundraising activities\, discussing ongoing recruitment efforts\, and addressing any other items that arise. \nPlease attend if you can. The more parents who are involved\, the better the pack works.
URL:https://bsapack370van.org/event/committee-meeting/
LOCATION:Round Table Pizza\, Vancouver Mall\, 5016 NE Thurston Way\, Vancouver\, WA\, 98661\, United States
CATEGORIES:Committee Meeting
ORGANIZER;CN="Steve Abbott":MAILTO:Steve.Abbott.BSA@gmail.com
END:VEVENT
END:VCALENDAR