BEGIN:VCALENDAR
VERSION:2.0
PRODID:-//Scouts BSA Pack 370 - Vancouver WA - ECPv6.15.20//NONSGML v1.0//EN
CALSCALE:GREGORIAN
METHOD:PUBLISH
X-ORIGINAL-URL:https://bsapack370van.org
X-WR-CALDESC:Events for Scouts BSA Pack 370 - Vancouver WA
REFRESH-INTERVAL;VALUE=DURATION:PT1H
X-Robots-Tag:noindex
X-PUBLISHED-TTL:PT1H
BEGIN:VTIMEZONE
TZID:America/Los_Angeles
BEGIN:DAYLIGHT
TZOFFSETFROM:-0800
TZOFFSETTO:-0700
TZNAME:PDT
DTSTART:20240310T100000
END:DAYLIGHT
BEGIN:STANDARD
TZOFFSETFROM:-0700
TZOFFSETTO:-0800
TZNAME:PST
DTSTART:20241103T090000
END:STANDARD
BEGIN:DAYLIGHT
TZOFFSETFROM:-0800
TZOFFSETTO:-0700
TZNAME:PDT
DTSTART:20250309T100000
END:DAYLIGHT
BEGIN:STANDARD
TZOFFSETFROM:-0700
TZOFFSETTO:-0800
TZNAME:PST
DTSTART:20251102T090000
END:STANDARD
BEGIN:DAYLIGHT
TZOFFSETFROM:-0800
TZOFFSETTO:-0700
TZNAME:PDT
DTSTART:20260308T100000
END:DAYLIGHT
BEGIN:STANDARD
TZOFFSETFROM:-0700
TZOFFSETTO:-0800
TZNAME:PST
DTSTART:20261101T090000
END:STANDARD
BEGIN:DAYLIGHT
TZOFFSETFROM:-0800
TZOFFSETTO:-0700
TZNAME:PDT
DTSTART:20270314T100000
END:DAYLIGHT
BEGIN:STANDARD
TZOFFSETFROM:-0700
TZOFFSETTO:-0800
TZNAME:PST
DTSTART:20271107T090000
END:STANDARD
END:VTIMEZONE
BEGIN:VEVENT
DTSTART;TZID=America/Los_Angeles:20251103T180000
DTEND;TZID=America/Los_Angeles:20251103T190000
DTSTAMP:20260425T062519
CREATED:20251014T135320Z
LAST-MODIFIED:20251014T135840Z
UID:179-1762192800-1762196400@bsapack370van.org
SUMMARY:Den Meeting (Webelos)
DESCRIPTION:Den meeting for the Webelos.
URL:https://bsapack370van.org/event/den-meeting-9/
LOCATION:Our Lady Of Lourdes Parish Center\, 4723 NW Franklin St. \, WA\, Vancouver\, WA\, 98663\, United States
CATEGORIES:Den Meeting
END:VEVENT
BEGIN:VEVENT
DTSTART;TZID=America/Los_Angeles:20251106T180000
DTEND;TZID=America/Los_Angeles:20251106T190000
DTSTAMP:20260425T062519
CREATED:20251014T131947Z
LAST-MODIFIED:20251014T131947Z
UID:156-1762452000-1762455600@bsapack370van.org
SUMMARY:Den Meeting
DESCRIPTION:Den meeting for the Lions\, Tigers\, Wolves\, and Bears.
URL:https://bsapack370van.org/event/den-meeting-5/
LOCATION:Our Lady Of Lourdes Parish Center\, 4723 NW Franklin St. \, WA\, Vancouver\, WA\, 98663\, United States
CATEGORIES:Den Meeting
END:VEVENT
BEGIN:VEVENT
DTSTART;TZID=America/Los_Angeles:20251117T180000
DTEND;TZID=America/Los_Angeles:20251117T190000
DTSTAMP:20260425T062519
CREATED:20251014T135421Z
LAST-MODIFIED:20251014T135824Z
UID:181-1763402400-1763406000@bsapack370van.org
SUMMARY:Den Meeting (Webelos)
DESCRIPTION:Den meeting for the Webelos.
URL:https://bsapack370van.org/event/den-meeting-10/
LOCATION:Our Lady Of Lourdes Parish Center\, 4723 NW Franklin St. \, WA\, Vancouver\, WA\, 98663\, United States
CATEGORIES:Den Meeting
ORGANIZER;CN="Steve Abbott":MAILTO:Steve.Abbott.BSA@gmail.com
END:VEVENT
BEGIN:VEVENT
DTSTART;TZID=America/Los_Angeles:20251120T180000
DTEND;TZID=America/Los_Angeles:20251120T190000
DTSTAMP:20260425T062519
CREATED:20251014T133627Z
LAST-MODIFIED:20251014T133627Z
UID:167-1763661600-1763665200@bsapack370van.org
SUMMARY:Den Meeting
DESCRIPTION:Den meeting for the Lions\, Tigers\, Wolves\, and Bears.
URL:https://bsapack370van.org/event/den-meeting-6/
LOCATION:Our Lady Of Lourdes Parish Center\, 4723 NW Franklin St. \, WA\, Vancouver\, WA\, 98663\, United States
CATEGORIES:Den Meeting
END:VEVENT
BEGIN:VEVENT
DTSTART;TZID=America/Los_Angeles:20251201T180000
DTEND;TZID=America/Los_Angeles:20251201T190000
DTSTAMP:20260425T062519
CREATED:20251014T135548Z
LAST-MODIFIED:20251014T135807Z
UID:183-1764612000-1764615600@bsapack370van.org
SUMMARY:Den Meeting (Webelos)
DESCRIPTION:Den meeting for the Webelos.
URL:https://bsapack370van.org/event/den-meeting-11/
LOCATION:Our Lady Of Lourdes Parish Center\, 4723 NW Franklin St. \, WA\, Vancouver\, WA\, 98663\, United States
CATEGORIES:Den Meeting
END:VEVENT
BEGIN:VEVENT
DTSTART;TZID=America/Los_Angeles:20251204T180000
DTEND;TZID=America/Los_Angeles:20251204T190000
DTSTAMP:20260425T062519
CREATED:20251014T133743Z
LAST-MODIFIED:20251014T133743Z
UID:169-1764871200-1764874800@bsapack370van.org
SUMMARY:Den Meeting
DESCRIPTION:Den meeting for the Lions\, Tigers\, Wolves\, and Bears.
URL:https://bsapack370van.org/event/den-meeting-7/
LOCATION:Our Lady Of Lourdes Parish Center\, 4723 NW Franklin St. \, WA\, Vancouver\, WA\, 98663\, United States
CATEGORIES:Den Meeting
END:VEVENT
BEGIN:VEVENT
DTSTART;TZID=America/Los_Angeles:20251215T180000
DTEND;TZID=America/Los_Angeles:20251215T190000
DTSTAMP:20260425T062519
CREATED:20251014T135641Z
LAST-MODIFIED:20251014T135751Z
UID:185-1765821600-1765825200@bsapack370van.org
SUMMARY:Den Meeting (Webelos)
DESCRIPTION:Den meeting for the Webelos.
URL:https://bsapack370van.org/event/den-meeting-12/
LOCATION:Our Lady Of Lourdes Parish Center\, 4723 NW Franklin St. \, WA\, Vancouver\, WA\, 98663\, United States
CATEGORIES:Den Meeting
END:VEVENT
BEGIN:VEVENT
DTSTART;TZID=America/Los_Angeles:20251218T180000
DTEND;TZID=America/Los_Angeles:20251218T190000
DTSTAMP:20260425T062519
CREATED:20251014T134643Z
LAST-MODIFIED:20251014T134643Z
UID:175-1766080800-1766084400@bsapack370van.org
SUMMARY:Den Meeting
DESCRIPTION:Den meeting for the Lions\, Tigers\, Wolves\, and Bears.
URL:https://bsapack370van.org/event/den-meeting-8/
LOCATION:Our Lady Of Lourdes Parish Center\, 4723 NW Franklin St. \, WA\, Vancouver\, WA\, 98663\, United States
CATEGORIES:Den Meeting
END:VEVENT
BEGIN:VEVENT
DTSTART;TZID=America/Los_Angeles:20260212T180000
DTEND;TZID=America/Los_Angeles:20260212T190000
DTSTAMP:20260425T062519
CREATED:20260119T060305Z
LAST-MODIFIED:20260119T060413Z
UID:213-1770919200-1770922800@bsapack370van.org
SUMMARY:Den Meeting
DESCRIPTION:Den Meeting for Lions\, Tigers\, Wolves\, and Bears.
URL:https://bsapack370van.org/event/den-meeting-14/
LOCATION:Our Lady Of Lourdes Parish Center\, 4723 NW Franklin St. \, WA\, Vancouver\, WA\, 98663\, United States
CATEGORIES:Den Meeting
END:VEVENT
BEGIN:VEVENT
DTSTART;TZID=America/Los_Angeles:20260226T180000
DTEND;TZID=America/Los_Angeles:20260226T190000
DTSTAMP:20260425T062519
CREATED:20260119T060150Z
LAST-MODIFIED:20260119T060330Z
UID:211-1772128800-1772132400@bsapack370van.org
SUMMARY:Den Meeting
DESCRIPTION:Den Meeting. \nLions\, Tigers\, Wolves\, and Bears. \nOh my.
URL:https://bsapack370van.org/event/den-meeting-13/
LOCATION:Our Lady Of Lourdes Parish Center\, 4723 NW Franklin St. \, WA\, Vancouver\, WA\, 98663\, United States
CATEGORIES:Den Meeting
ORGANIZER;CN="Leanne Williams":MAILTO:lmwilliams01@gmail.com
END:VEVENT
END:VCALENDAR