BEGIN:VCALENDAR
VERSION:2.0
PRODID:-//Scouts BSA Pack 370 - Vancouver WA - ECPv6.15.20//NONSGML v1.0//EN
CALSCALE:GREGORIAN
METHOD:PUBLISH
X-ORIGINAL-URL:https://bsapack370van.org
X-WR-CALDESC:Events for Scouts BSA Pack 370 - Vancouver WA
REFRESH-INTERVAL;VALUE=DURATION:PT1H
X-Robots-Tag:noindex
X-PUBLISHED-TTL:PT1H
BEGIN:VTIMEZONE
TZID:America/Los_Angeles
BEGIN:DAYLIGHT
TZOFFSETFROM:-0800
TZOFFSETTO:-0700
TZNAME:PDT
DTSTART:20240310T100000
END:DAYLIGHT
BEGIN:STANDARD
TZOFFSETFROM:-0700
TZOFFSETTO:-0800
TZNAME:PST
DTSTART:20241103T090000
END:STANDARD
BEGIN:DAYLIGHT
TZOFFSETFROM:-0800
TZOFFSETTO:-0700
TZNAME:PDT
DTSTART:20250309T100000
END:DAYLIGHT
BEGIN:STANDARD
TZOFFSETFROM:-0700
TZOFFSETTO:-0800
TZNAME:PST
DTSTART:20251102T090000
END:STANDARD
BEGIN:DAYLIGHT
TZOFFSETFROM:-0800
TZOFFSETTO:-0700
TZNAME:PDT
DTSTART:20260308T100000
END:DAYLIGHT
BEGIN:STANDARD
TZOFFSETFROM:-0700
TZOFFSETTO:-0800
TZNAME:PST
DTSTART:20261101T090000
END:STANDARD
END:VTIMEZONE
BEGIN:VEVENT
DTSTART;TZID=America/Los_Angeles:20251206T090000
DTEND;TZID=America/Los_Angeles:20251206T120000
DTSTAMP:20260423T225852
CREATED:20251014T134025Z
LAST-MODIFIED:20251014T134025Z
UID:171-1765011600-1765022400@bsapack370van.org
SUMMARY:Walk & Knock (Tentative)
DESCRIPTION:Walk & Knock is the annual event raising food contributions for the community organizations that provide support to those who need it. \nWe will gather at the Our Lady of Lourdes parking lot\, then travel to our assigned area.
URL:https://bsapack370van.org/event/walk-knock-tentative/
CATEGORIES:Event
END:VEVENT
END:VCALENDAR