BEGIN:VCALENDAR
VERSION:2.0
PRODID:-//Scouts BSA Pack 370 - Vancouver WA - ECPv6.15.20//NONSGML v1.0//EN
CALSCALE:GREGORIAN
METHOD:PUBLISH
X-ORIGINAL-URL:https://bsapack370van.org
X-WR-CALDESC:Events for Scouts BSA Pack 370 - Vancouver WA
REFRESH-INTERVAL;VALUE=DURATION:PT1H
X-Robots-Tag:noindex
X-PUBLISHED-TTL:PT1H
BEGIN:VTIMEZONE
TZID:America/Los_Angeles
BEGIN:DAYLIGHT
TZOFFSETFROM:-0800
TZOFFSETTO:-0700
TZNAME:PDT
DTSTART:20240310T100000
END:DAYLIGHT
BEGIN:STANDARD
TZOFFSETFROM:-0700
TZOFFSETTO:-0800
TZNAME:PST
DTSTART:20241103T090000
END:STANDARD
BEGIN:DAYLIGHT
TZOFFSETFROM:-0800
TZOFFSETTO:-0700
TZNAME:PDT
DTSTART:20250309T100000
END:DAYLIGHT
BEGIN:STANDARD
TZOFFSETFROM:-0700
TZOFFSETTO:-0800
TZNAME:PST
DTSTART:20251102T090000
END:STANDARD
BEGIN:DAYLIGHT
TZOFFSETFROM:-0800
TZOFFSETTO:-0700
TZNAME:PDT
DTSTART:20260308T100000
END:DAYLIGHT
BEGIN:STANDARD
TZOFFSETFROM:-0700
TZOFFSETTO:-0800
TZNAME:PST
DTSTART:20261101T090000
END:STANDARD
BEGIN:DAYLIGHT
TZOFFSETFROM:-0800
TZOFFSETTO:-0700
TZNAME:PDT
DTSTART:20270314T100000
END:DAYLIGHT
BEGIN:STANDARD
TZOFFSETFROM:-0700
TZOFFSETTO:-0800
TZNAME:PST
DTSTART:20271107T090000
END:STANDARD
END:VTIMEZONE
BEGIN:VEVENT
DTSTART;VALUE=DATE:20260215
DTEND;VALUE=DATE:20260216
DTSTAMP:20260423T155609
CREATED:20260119T055946Z
LAST-MODIFIED:20260119T060345Z
UID:209-1771113600-1771199999@bsapack370van.org
SUMMARY:Day sledding at Aubrey-Watzek Lodge on Mt Hood
DESCRIPTION:Day sledding at Aubrey-Watzek Lodge on Mt Hood.
URL:https://bsapack370van.org/event/day-sledding-at-aubrey-watzek-lodge-on-mt-hood/
CATEGORIES:Event
END:VEVENT
BEGIN:VEVENT
DTSTART;TZID=America/Los_Angeles:20260103T080000
DTEND;TZID=America/Los_Angeles:20260103T140000
DTSTAMP:20260423T155609
CREATED:20260101T212245Z
LAST-MODIFIED:20260119T060430Z
UID:200-1767427200-1767448800@bsapack370van.org
SUMMARY:Troop 370 Tree Recycling
DESCRIPTION:This year\, the pack is not going to be doing any tree recycling of its own. Logistically\, it has just not been viable in the past. \nTroop 370 will be participating in the recycling activities this year\, and I am sure they would be happy to accept any help our scouts are willing to provide. \nTree recycling is being coordinated by David O’Claire this year\, so you can reach out to him to find out how you can help. If you need contact information\, email me at Steve.Abbott.BSA@gmail.com\, and I can send his contact info.
URL:https://bsapack370van.org/event/troop-370-tree-recycling/
LOCATION:Thomas Jefferson Middle School\, 3000 NW 119th St\, Vancouver\, WA\, 98685\, United States
CATEGORIES:Event
ORGANIZER;CN="Steve Abbott":MAILTO:Steve.Abbott.BSA@gmail.com
END:VEVENT
BEGIN:VEVENT
DTSTART;TZID=America/Los_Angeles:20251206T090000
DTEND;TZID=America/Los_Angeles:20251206T120000
DTSTAMP:20260423T155609
CREATED:20251014T134025Z
LAST-MODIFIED:20251014T134025Z
UID:171-1765011600-1765022400@bsapack370van.org
SUMMARY:Walk & Knock (Tentative)
DESCRIPTION:Walk & Knock is the annual event raising food contributions for the community organizations that provide support to those who need it. \nWe will gather at the Our Lady of Lourdes parking lot\, then travel to our assigned area.
URL:https://bsapack370van.org/event/walk-knock-tentative/
CATEGORIES:Event
END:VEVENT
BEGIN:VEVENT
DTSTART;TZID=America/Los_Angeles:20251108T093000
DTEND;TZID=America/Los_Angeles:20251108T120000
DTSTAMP:20260423T155609
CREATED:20251014T132650Z
LAST-MODIFIED:20251014T132650Z
UID:160-1762594200-1762603200@bsapack370van.org
SUMMARY:Veterans Day Parade
DESCRIPTION:We will be marching in the Veterans Day Parade this year. \nWe will meet in the Hudson Bay High School parking lot at 9:30 AM and go as a group to get into the parade setup line.
URL:https://bsapack370van.org/event/veterans-day-parade/
LOCATION:Hudson Bay High School\, 1601 E McLoughlin Blvd\, vanc\, Vancouver\, 98663\, United States
CATEGORIES:Event
END:VEVENT
BEGIN:VEVENT
DTSTART;VALUE=DATE:20251003
DTEND;VALUE=DATE:20251006
DTSTAMP:20260423T155609
CREATED:20250922T010113Z
LAST-MODIFIED:20250922T010207Z
UID:132-1759449600-1759708799@bsapack370van.org
SUMMARY:Webelos Woods
DESCRIPTION:Webelos Woods at Camp Lewis. Opportunity for Webelos to interact with troops in the area in preparation for crossing over in February. Camping will be available on both Friday and Saturday nights. \nMost activities will take place on Saturday.
URL:https://bsapack370van.org/event/webleos-woods/
LOCATION:Camp Lewis\, 27000 NE 147th Ave\, Battleground\, WA\, 98604\, United States
CATEGORIES:Event
END:VEVENT
BEGIN:VEVENT
DTSTART;TZID=America/Los_Angeles:20250904T180000
DTEND;TZID=America/Los_Angeles:20250904T200000
DTSTAMP:20260423T155609
CREATED:20250904T175316Z
LAST-MODIFIED:20250904T175316Z
UID:88-1757008800-1757016000@bsapack370van.org
SUMMARY:Family Night @ OLL and St. Joes
DESCRIPTION:We will be at the Family Night events at both Our Lady of Lourdes and St. Joseph Catholic School. Tentative arrival time is 6 PM at both locations.
URL:https://bsapack370van.org/event/family-night-oll-and-st-joes/
CATEGORIES:Event
END:VEVENT
END:VCALENDAR