BEGIN:VCALENDAR
VERSION:2.0
PRODID:-//Scouts BSA Pack 370 - Vancouver WA - ECPv6.15.20//NONSGML v1.0//EN
CALSCALE:GREGORIAN
METHOD:PUBLISH
X-WR-CALNAME:Scouts BSA Pack 370 - Vancouver WA
X-ORIGINAL-URL:https://bsapack370van.org
X-WR-CALDESC:Events for Scouts BSA Pack 370 - Vancouver WA
REFRESH-INTERVAL;VALUE=DURATION:PT1H
X-Robots-Tag:noindex
X-PUBLISHED-TTL:PT1H
BEGIN:VTIMEZONE
TZID:America/Los_Angeles
BEGIN:DAYLIGHT
TZOFFSETFROM:-0800
TZOFFSETTO:-0700
TZNAME:PDT
DTSTART:20240310T100000
END:DAYLIGHT
BEGIN:STANDARD
TZOFFSETFROM:-0700
TZOFFSETTO:-0800
TZNAME:PST
DTSTART:20241103T090000
END:STANDARD
BEGIN:DAYLIGHT
TZOFFSETFROM:-0800
TZOFFSETTO:-0700
TZNAME:PDT
DTSTART:20250309T100000
END:DAYLIGHT
BEGIN:STANDARD
TZOFFSETFROM:-0700
TZOFFSETTO:-0800
TZNAME:PST
DTSTART:20251102T090000
END:STANDARD
BEGIN:DAYLIGHT
TZOFFSETFROM:-0800
TZOFFSETTO:-0700
TZNAME:PDT
DTSTART:20260308T100000
END:DAYLIGHT
BEGIN:STANDARD
TZOFFSETFROM:-0700
TZOFFSETTO:-0800
TZNAME:PST
DTSTART:20261101T090000
END:STANDARD
BEGIN:DAYLIGHT
TZOFFSETFROM:-0800
TZOFFSETTO:-0700
TZNAME:PDT
DTSTART:20270314T100000
END:DAYLIGHT
BEGIN:STANDARD
TZOFFSETFROM:-0700
TZOFFSETTO:-0800
TZNAME:PST
DTSTART:20271107T090000
END:STANDARD
END:VTIMEZONE
BEGIN:VEVENT
DTSTART;TZID=America/Los_Angeles:20260214T180000
DTEND;TZID=America/Los_Angeles:20260214T193000
DTSTAMP:20260423T144239
CREATED:20260101T213303Z
LAST-MODIFIED:20260119T060401Z
UID:205-1771092000-1771097400@bsapack370van.org
SUMMARY:Blue & Gold
DESCRIPTION:Blue & Gold is the crossover ceremony where the Arrow of Light scouts cross over from Cub Scouts to Scouts. Please join us for this special event where we celebrate our AoL scouts’ achievements and success.
URL:https://bsapack370van.org/event/blue-gold/
LOCATION:Our Lady of Lourdes Gym\, 4723 NW Franklin St.\, Vancouver\, WA\, 98663\, United States
CATEGORIES:Pack Meeting
END:VEVENT
BEGIN:VEVENT
DTSTART;TZID=America/Los_Angeles:20260110T180000
DTEND;TZID=America/Los_Angeles:20260110T193000
DTSTAMP:20260423T144239
CREATED:20260101T213816Z
LAST-MODIFIED:20260119T060419Z
UID:207-1768068000-1768073400@bsapack370van.org
SUMMARY:January Pack Meeting - Pinewood Derby
DESCRIPTION:Our January Pack meeting is traditionally when the Pinewood Derby is held. This year is no exception. \nScouts\, who received their car kits last year\, will race their finished cars down the 50′ long track\, each one vying to find out who has the fastest car! \nPlease come and cheer on the scouts!
URL:https://bsapack370van.org/event/january-pack-meeting-pinewood-derby/
LOCATION:Our Lady of Lourdes Gym\, 4723 NW Franklin St.\, Vancouver\, WA\, 98663\, United States
CATEGORIES:Pack Meeting
END:VEVENT
BEGIN:VEVENT
DTSTART;TZID=America/Los_Angeles:20251213T181500
DTEND;TZID=America/Los_Angeles:20251213T193000
DTSTAMP:20260423T144239
CREATED:20251014T134327Z
LAST-MODIFIED:20251014T134515Z
UID:173-1765649700-1765654200@bsapack370van.org
SUMMARY:Pack Meeting
DESCRIPTION:We will be making Christmas cards for residents of local retirement communities. We will also be watching a movie.
URL:https://bsapack370van.org/event/pack-meeting/
LOCATION:Our Lady of Lourdes Gym\, 4723 NW Franklin St.\, Vancouver\, WA\, 98663\, United States
CATEGORIES:Pack Meeting
END:VEVENT
BEGIN:VEVENT
DTSTART;TZID=America/Los_Angeles:20251108T181500
DTEND;TZID=America/Los_Angeles:20251108T193000
DTSTAMP:20260423T144239
CREATED:20251014T132237Z
LAST-MODIFIED:20251014T132729Z
UID:158-1762625700-1762630200@bsapack370van.org
SUMMARY:November Pack Meeting
DESCRIPTION:Monthly pack meeting. This month we will be working on making Dog Biscuits to sell at the Makers Bazarre at Our Lady of Lourdes on 11/16/25.
URL:https://bsapack370van.org/event/november-pack-meeting/
LOCATION:Our Lady of Lourdes Gym\, 4723 NW Franklin St.\, Vancouver\, WA\, 98663\, United States
CATEGORIES:Pack Meeting
END:VEVENT
BEGIN:VEVENT
DTSTART;TZID=America/Los_Angeles:20251011T181500
DTEND;TZID=America/Los_Angeles:20251011T193000
DTSTAMP:20260423T144239
CREATED:20250828T150807Z
LAST-MODIFIED:20250922T010333Z
UID:84-1760206500-1760211000@bsapack370van.org
SUMMARY:October Pack Meeting
DESCRIPTION:October Pack Meeting \nWe will be working on the Jubilee Religious Activity and making Neckerchief Slides.
URL:https://bsapack370van.org/event/october-pack-meeting/
LOCATION:Our Lady of Lourdes Gym\, 4723 NW Franklin St.\, Vancouver\, WA\, 98663\, United States
CATEGORIES:Pack Meeting
END:VEVENT
BEGIN:VEVENT
DTSTART;TZID=America/Los_Angeles:20250913T181500
DTEND;TZID=America/Los_Angeles:20250913T193000
DTSTAMP:20260423T144239
CREATED:20250826T172202Z
LAST-MODIFIED:20250827T140755Z
UID:54-1757787300-1757791800@bsapack370van.org
SUMMARY:September Pack Meeting
DESCRIPTION:The September Pack meeting. We will be in the Our Lady of Lourdes gym. \nThis will be our Welcome Back and Game Night meeting. Bring a game to play and invite some friends!
URL:https://bsapack370van.org/event/september-pack-meeting/
LOCATION:Our Lady of Lourdes Gym\, 4723 NW Franklin St.\, Vancouver\, WA\, 98663\, United States
CATEGORIES:Pack Meeting
END:VEVENT
END:VCALENDAR